BEGIN:VCALENDAR
VERSION:2.0
PRODID:-//Central Panhandle Fair in Bay County - ECPv6.15.20//NONSGML v1.0//EN
CALSCALE:GREGORIAN
METHOD:PUBLISH
X-ORIGINAL-URL:https://baycountyfair.org
X-WR-CALDESC:Events for Central Panhandle Fair in Bay County
REFRESH-INTERVAL;VALUE=DURATION:PT1H
X-Robots-Tag:noindex
X-PUBLISHED-TTL:PT1H
BEGIN:VTIMEZONE
TZID:America/Chicago
BEGIN:DAYLIGHT
TZOFFSETFROM:-0600
TZOFFSETTO:-0500
TZNAME:CDT
DTSTART:20230312T080000
END:DAYLIGHT
BEGIN:STANDARD
TZOFFSETFROM:-0500
TZOFFSETTO:-0600
TZNAME:CST
DTSTART:20231105T070000
END:STANDARD
BEGIN:DAYLIGHT
TZOFFSETFROM:-0600
TZOFFSETTO:-0500
TZNAME:CDT
DTSTART:20240310T080000
END:DAYLIGHT
BEGIN:STANDARD
TZOFFSETFROM:-0500
TZOFFSETTO:-0600
TZNAME:CST
DTSTART:20241103T070000
END:STANDARD
BEGIN:DAYLIGHT
TZOFFSETFROM:-0600
TZOFFSETTO:-0500
TZNAME:CDT
DTSTART:20250309T080000
END:DAYLIGHT
BEGIN:STANDARD
TZOFFSETFROM:-0500
TZOFFSETTO:-0600
TZNAME:CST
DTSTART:20251102T070000
END:STANDARD
END:VTIMEZONE
BEGIN:VEVENT
DTSTART;TZID=America/Chicago:20240830T000000
DTEND;TZID=America/Chicago:20240902T235959
DTSTAMP:20260424T085204
CREATED:20240809T104824Z
LAST-MODIFIED:20240831T080122Z
UID:1748-1724976000-1725321599@baycountyfair.org
SUMMARY:South East Spa
DESCRIPTION:08/30/2024 to 09/02/2024open 10am to 5pm each day \n\n\n\nNo home or backyard is complete without a hot tub. Our modern hot tubs are crafted using an advanced design and some of the most durable materials available to the industry. You can find confidence in knowing that you can enjoy your hot tub experience for many years to come. We have a wide range of hot tubs for sale\, so you can rest assured that the best one for your lifestyle is just around the corner. \n\n\n\nSouth East Spas is a family owned business with a team that boasts 40+ years in the industry. We are the largest spa dealer in the south east region! We are proud to be the largest distributor of Master Spas hot tubs and swim spas in the United States. We dedicate ourselves to personalized service for each and every customer\, and we guarantee a shopping experience you won’t get anywhere else. Let us help you transform your backyard into a personal oasis.
URL:https://baycountyfair.org/event/south-east-spa/
LOCATION:Central Panhandle Fair in Bay County\, 2230 East 15th Street\, Panama City\, FL\, 32405\, United States
CATEGORIES:Community Events,Hot Tub Expo
ATTACH;FMTTYPE=image/png:https://baycountyfair.org/wp-content/uploads/2024/08/image-1.png
END:VEVENT
END:VCALENDAR