BEGIN:VCALENDAR
VERSION:2.0
PRODID:-//Central Panhandle Fair in Bay County - ECPv6.15.20//NONSGML v1.0//EN
CALSCALE:GREGORIAN
METHOD:PUBLISH
X-WR-CALNAME:Central Panhandle Fair in Bay County
X-ORIGINAL-URL:https://baycountyfair.org
X-WR-CALDESC:Events for Central Panhandle Fair in Bay County
REFRESH-INTERVAL;VALUE=DURATION:PT1H
X-Robots-Tag:noindex
X-PUBLISHED-TTL:PT1H
BEGIN:VTIMEZONE
TZID:America/Chicago
BEGIN:DAYLIGHT
TZOFFSETFROM:-0600
TZOFFSETTO:-0500
TZNAME:CDT
DTSTART:20240310T080000
END:DAYLIGHT
BEGIN:STANDARD
TZOFFSETFROM:-0500
TZOFFSETTO:-0600
TZNAME:CST
DTSTART:20241103T070000
END:STANDARD
BEGIN:DAYLIGHT
TZOFFSETFROM:-0600
TZOFFSETTO:-0500
TZNAME:CDT
DTSTART:20250309T080000
END:DAYLIGHT
BEGIN:STANDARD
TZOFFSETFROM:-0500
TZOFFSETTO:-0600
TZNAME:CST
DTSTART:20251102T070000
END:STANDARD
BEGIN:DAYLIGHT
TZOFFSETFROM:-0600
TZOFFSETTO:-0500
TZNAME:CDT
DTSTART:20260308T080000
END:DAYLIGHT
BEGIN:STANDARD
TZOFFSETFROM:-0500
TZOFFSETTO:-0600
TZNAME:CST
DTSTART:20261101T070000
END:STANDARD
END:VTIMEZONE
BEGIN:VEVENT
DTSTART;TZID=America/Chicago:20250117T000000
DTEND;TZID=America/Chicago:20250119T235959
DTSTAMP:20260423T225418
CREATED:20240919T222331Z
LAST-MODIFIED:20240919T222348Z
UID:1768-1737072000-1737331199@baycountyfair.org
SUMMARY:Florida Panhandle Toy Expo
DESCRIPTION:Florida Panhandle Toy Expo01/17/2025 Thru 01/19/2024Jan 17th – Friday 12pm. – 4pm.Jan 18th – Saturday 8am. – 4pm.Jan 19th – Sunday 8am. – 4pm.
URL:https://baycountyfair.org/event/florida-panhandle-toy-expo/
LOCATION:Central Panhandle Fair in Bay County\, 2230 East 15th Street\, Panama City\, FL\, 32405\, United States
CATEGORIES:Community Events
ATTACH;FMTTYPE=image/jpeg:https://baycountyfair.org/wp-content/uploads/2024/09/toyexpo24.jpg
END:VEVENT
BEGIN:VEVENT
DTSTART;TZID=America/Chicago:20250125T000000
DTEND;TZID=America/Chicago:20250126T235959
DTSTAMP:20260423T225418
CREATED:20241221T012134Z
LAST-MODIFIED:20260224T215706Z
UID:1783-1737763200-1737935999@baycountyfair.org
SUMMARY:The Great Pages Circus
DESCRIPTION:shows for January 25th – 3pm & 6pmshows for January 26th – 1pm & 4pm \n\n\n\nPurchase Tickets Online \n\n\n\nTicket Information\n\n\n\nPRICES \n\n\n\nADULT: $20 (persons 13 and older)CHILD: up to 2 Children FREE with EACH Paid Adult (persons age 3 to 12)EXTRA CHILD: $5 (persons 3 to 12)INFANT:  are FREE and do not need a ticket (persons under 2yrs of age)CHILD STUDENT: $10 (persons 13-15) — This ticket is only for children\, NOT young adults attending university/college. \n\n\n\nFree Children’s Tickets \n\n\n\nFree Children’s Tickets may have been distributed throughout your area in Fast Food Restaurants\, Convenience Stores\, Businesses\, Schools and Retail stores. These may be used to admit ONE child for EACH paid adult. The Free Children’s Tickets may not be used in combination with the Family Package. \n\n\n\nCHILDREN \n\n\n\nChildren under 2 are free and do not need a ticket. Age 3 to 12 must have a Child’s ticket (Free or Paid). All Persons\, Ages 13 and up must have an Adult ticket to enter the Circus. All Children must be accompanied by an adult. Children may not be left unattended at the Circus. \n\n\n\nAFTER YOUR PURCHASE \n\n\n\nAfter your purchase is complete\, you will be sent an email with a summary of your purchase and a barcode to be scanned at the entrance. This is ONE barcode for your entire purchase. You do NOT have to print this email\, we prefer you to display it on your mobile device at the entrance to the Circus. \n\n\n\nREFUNDS \n\n\n\nTickets are NOT refundable. If you are unable to attend\, you may pass your tickets along to a friend or family member. \n\n\n\nDISCLAIMER:Special needs adults with support caregivers are free! Please present identification at arrival; however\, caregivers must purchase an adult ticket. \n\n\n\nDIFFICULTY BUYING TICKETS? \n\n\n\nIf you have difficulty purchasing tickets online or if you would prefer not to buy online\, you may purchase tickets at the show’s on-site box office one the hour before each performance.
URL:https://baycountyfair.org/event/the-great-pages-circus/
LOCATION:Central Panhandle Fair in Bay County\, 2230 East 15th Street\, Panama City\, FL\, 32405\, United States
CATEGORIES:Circus
ATTACH;FMTTYPE=image/png:https://baycountyfair.org/wp-content/uploads/2024/12/pages-clowns-1-800x1067-1.png
END:VEVENT
END:VCALENDAR