BEGIN:VCALENDAR
VERSION:2.0
PRODID:-//Central Panhandle Fair in Bay County - ECPv6.15.20//NONSGML v1.0//EN
CALSCALE:GREGORIAN
METHOD:PUBLISH
X-ORIGINAL-URL:https://baycountyfair.org
X-WR-CALDESC:Events for Central Panhandle Fair in Bay County
REFRESH-INTERVAL;VALUE=DURATION:PT1H
X-Robots-Tag:noindex
X-PUBLISHED-TTL:PT1H
BEGIN:VTIMEZONE
TZID:America/Chicago
BEGIN:DAYLIGHT
TZOFFSETFROM:-0600
TZOFFSETTO:-0500
TZNAME:CDT
DTSTART:20240310T080000
END:DAYLIGHT
BEGIN:STANDARD
TZOFFSETFROM:-0500
TZOFFSETTO:-0600
TZNAME:CST
DTSTART:20241103T070000
END:STANDARD
BEGIN:DAYLIGHT
TZOFFSETFROM:-0600
TZOFFSETTO:-0500
TZNAME:CDT
DTSTART:20250309T080000
END:DAYLIGHT
BEGIN:STANDARD
TZOFFSETFROM:-0500
TZOFFSETTO:-0600
TZNAME:CST
DTSTART:20251102T070000
END:STANDARD
BEGIN:DAYLIGHT
TZOFFSETFROM:-0600
TZOFFSETTO:-0500
TZNAME:CDT
DTSTART:20260308T080000
END:DAYLIGHT
BEGIN:STANDARD
TZOFFSETFROM:-0500
TZOFFSETTO:-0600
TZNAME:CST
DTSTART:20261101T070000
END:STANDARD
END:VTIMEZONE
BEGIN:VEVENT
DTSTART;TZID=America/Chicago:20250214T000000
DTEND;TZID=America/Chicago:20250215T235959
DTSTAMP:20260423T212142
CREATED:20240802T081524Z
LAST-MODIFIED:20240831T080121Z
UID:1745-1739491200-1739663999@baycountyfair.org
SUMMARY:St. Andrews Bay Quilters Guild
DESCRIPTION:02/14/2025 and 02/15/2025Friday 9am. to 4pm. / Saturday 9am. to 4pm. \n\n\n\nAnnual Quilt Show \n\n\n\nThe Saint Andrew Bay Quilters look forward to sharing the projects they have been hard at work completing. Our annual quilt show highlights our members’ skills\, teamwork\, and passion. Join us for an exciting day\, full of fun and creativity. \n\n\n\nRibbons\, Ribbons\, Ribbons\n\n\n\nThe Quilt Show is a judged competition with winners receiving ribbons as their reward. Our show program will describe the categories. Each of the categories is judged separately. \n\n\n\nThere are some separate awards\, such as Judge’s Choice\, Viewer’s Choice\, Hand Quilting Award\, and Machine Quilting Awards. \n\n\n\nWe have a special award given to the quilt which exhibits exceptional handwork. It is called the Bobbi Award and is given in memory of a special lady who excelled in handwork. \n\n\n\nThe ribbons presented to the quilters are made by hand \, by members of our Guild. We take pride in our ribbons. And feel it an honor to win one.
URL:https://baycountyfair.org/event/st-andrews-bay-quilters-guild/
LOCATION:Central Panhandle Fair in Bay County\, 2230 East 15th Street\, Panama City\, FL\, 32405\, United States
CATEGORIES:Community Events
ATTACH;FMTTYPE=image/png:https://baycountyfair.org/wp-content/uploads/2024/08/image.png
END:VEVENT
END:VCALENDAR