BEGIN:VCALENDAR
VERSION:2.0
PRODID:-//Central Panhandle Fair in Bay County - ECPv6.15.20//NONSGML v1.0//EN
CALSCALE:GREGORIAN
METHOD:PUBLISH
X-ORIGINAL-URL:https://baycountyfair.org
X-WR-CALDESC:Events for Central Panhandle Fair in Bay County
REFRESH-INTERVAL;VALUE=DURATION:PT1H
X-Robots-Tag:noindex
X-PUBLISHED-TTL:PT1H
BEGIN:VTIMEZONE
TZID:America/Chicago
BEGIN:DAYLIGHT
TZOFFSETFROM:-0600
TZOFFSETTO:-0500
TZNAME:CDT
DTSTART:20240310T080000
END:DAYLIGHT
BEGIN:STANDARD
TZOFFSETFROM:-0500
TZOFFSETTO:-0600
TZNAME:CST
DTSTART:20241103T070000
END:STANDARD
BEGIN:DAYLIGHT
TZOFFSETFROM:-0600
TZOFFSETTO:-0500
TZNAME:CDT
DTSTART:20250309T080000
END:DAYLIGHT
BEGIN:STANDARD
TZOFFSETFROM:-0500
TZOFFSETTO:-0600
TZNAME:CST
DTSTART:20251102T070000
END:STANDARD
BEGIN:DAYLIGHT
TZOFFSETFROM:-0600
TZOFFSETTO:-0500
TZNAME:CDT
DTSTART:20260308T080000
END:DAYLIGHT
BEGIN:STANDARD
TZOFFSETFROM:-0500
TZOFFSETTO:-0600
TZNAME:CST
DTSTART:20261101T070000
END:STANDARD
END:VTIMEZONE
BEGIN:VEVENT
DTSTART;TZID=America/Chicago:20250411T100000
DTEND;TZID=America/Chicago:20250413T170000
DTSTAMP:20260423T183721
CREATED:20250221T080204Z
LAST-MODIFIED:20250221T080222Z
UID:1794-1744365600-1744563600@baycountyfair.org
SUMMARY:Panhandle Gem & Mineral Show
DESCRIPTION:April 11\,12\, and 13 from 10am to 5 pm \n\n\n\nAdmission – $5 good for all 3 days \n\n\n\nUnder 12 Free \n\n\n\nLarge Amethyst Geode Raffle by the Panama City Gem & Mineral Society \n\n\n\nSilent Auctions and DOOR PRIZE \n\n\n\nGeologist on Site to identify your rocks
URL:https://baycountyfair.org/event/panhandle-gem-mineral-show/
LOCATION:Central Panhandle Fair in Bay County\, 2230 East 15th Street\, Panama City\, FL\, 32405\, United States
ATTACH;FMTTYPE=image/jpeg:https://baycountyfair.org/wp-content/uploads/2025/02/5661d258-65bd-4d2d-91c8-9d75c0d92702.jpeg
END:VEVENT
END:VCALENDAR