BEGIN:VCALENDAR
VERSION:2.0
PRODID:-//Central Panhandle Fair in Bay County - ECPv6.15.20//NONSGML v1.0//EN
CALSCALE:GREGORIAN
METHOD:PUBLISH
X-WR-CALNAME:Central Panhandle Fair in Bay County
X-ORIGINAL-URL:https://baycountyfair.org
X-WR-CALDESC:Events for Central Panhandle Fair in Bay County
REFRESH-INTERVAL;VALUE=DURATION:PT1H
X-Robots-Tag:noindex
X-PUBLISHED-TTL:PT1H
BEGIN:VTIMEZONE
TZID:America/Chicago
BEGIN:DAYLIGHT
TZOFFSETFROM:-0600
TZOFFSETTO:-0500
TZNAME:CDT
DTSTART:20240310T080000
END:DAYLIGHT
BEGIN:STANDARD
TZOFFSETFROM:-0500
TZOFFSETTO:-0600
TZNAME:CST
DTSTART:20241103T070000
END:STANDARD
BEGIN:DAYLIGHT
TZOFFSETFROM:-0600
TZOFFSETTO:-0500
TZNAME:CDT
DTSTART:20250309T080000
END:DAYLIGHT
BEGIN:STANDARD
TZOFFSETFROM:-0500
TZOFFSETTO:-0600
TZNAME:CST
DTSTART:20251102T070000
END:STANDARD
BEGIN:DAYLIGHT
TZOFFSETFROM:-0600
TZOFFSETTO:-0500
TZNAME:CDT
DTSTART:20260308T080000
END:DAYLIGHT
BEGIN:STANDARD
TZOFFSETFROM:-0500
TZOFFSETTO:-0600
TZNAME:CST
DTSTART:20261101T070000
END:STANDARD
END:VTIMEZONE
BEGIN:VEVENT
DTSTART;TZID=America/Chicago:20250911T000000
DTEND;TZID=America/Chicago:20250914T235959
DTSTAMP:20260423T183643
CREATED:20250820T124237Z
LAST-MODIFIED:20260224T215717Z
UID:1836-1757548800-1757894399@baycountyfair.org
SUMMARY:Cirque Du Luxe
DESCRIPTION:09/11/2025 thru 09/14/2025Thursday starts 7:30pm ends 9:00pmFriday starts 7:30pm ends 9:00pmSaturday 4:30pm show 7:30pm showSunday show 1:30pm \n\n\n\n\nPurchase Tickets
URL:https://baycountyfair.org/event/cirque-du-luxe/
LOCATION:Central Panhandle Fair in Bay County\, 2230 East 15th Street\, Panama City\, FL\, 32405\, United States
CATEGORIES:Circus
ATTACH;FMTTYPE=image/jpeg:https://baycountyfair.org/wp-content/uploads/2025/08/Cirque-Duluxe.jpeg
END:VEVENT
BEGIN:VEVENT
DTSTART;TZID=America/Chicago:20250930T000000
DTEND;TZID=America/Chicago:20251004T235959
DTSTAMP:20260423T183643
CREATED:20250817T084749Z
LAST-MODIFIED:20250818T063821Z
UID:1826-1759190400-1759622399@baycountyfair.org
SUMMARY:2025 Central Panhandle Fair In Bay County
DESCRIPTION:Event Schedule\n\n\n\nTuesday September 30: Pay One Price Day – EACH admittance is $25\, gates open at 6pm \n\n\n\nWednesday October 1: Pay One Price Day – EACH admittance is $25\, gates open at 6pm \n\n\n\nThursday October 2: Open 6:00 p.m. $15 ENTRY FEE. Armbands available until closing for $35.00. (with special ticket – $30.00). \n\n\n\nFriday October 3: Open 4:00 p.m.\, $15 ENTRY FEE. Armbands available until closing for $35.00. \n\n\n\nSaturday October 4: Open 2:00 p.m. $15 ENTRY FEE. $35.00 Armbands available until closing.       \n\n\n\nAll Times Are Central Time. All buildings close at 10:00 p.m. Midway closes when crowd leaves. \n\n\n\nPlease remember that CASH only is accepted at the gate for entry. Cards are accepted inside the midway. NO RE-ENTRY \n\n\n\nNO WEAPONS OF ANY KIND \n\n\n\nThe 2025 Fair is dedicated to the Officers & Directors and all those who make the Fair a family event! – Thank You! \n\n\n\n\nDownload 2025 Fair Program
URL:https://baycountyfair.org/event/2025-central-panhandle-fair-in-bay-county/
LOCATION:Central Panhandle Fair in Bay County\, 2230 East 15th Street\, Panama City\, FL\, 32405\, United States
CATEGORIES:Community Events,Fair
ATTACH;FMTTYPE=image/jpeg:https://baycountyfair.org/wp-content/uploads/2021/02/IMG_4731-scaled.jpg
END:VEVENT
END:VCALENDAR