BEGIN:VCALENDAR
VERSION:2.0
PRODID:-//Central Panhandle Fair in Bay County - ECPv6.15.20//NONSGML v1.0//EN
CALSCALE:GREGORIAN
METHOD:PUBLISH
X-ORIGINAL-URL:https://baycountyfair.org
X-WR-CALDESC:Events for Central Panhandle Fair in Bay County
REFRESH-INTERVAL;VALUE=DURATION:PT1H
X-Robots-Tag:noindex
X-PUBLISHED-TTL:PT1H
BEGIN:VTIMEZONE
TZID:America/Chicago
BEGIN:DAYLIGHT
TZOFFSETFROM:-0600
TZOFFSETTO:-0500
TZNAME:CDT
DTSTART:20250309T080000
END:DAYLIGHT
BEGIN:STANDARD
TZOFFSETFROM:-0500
TZOFFSETTO:-0600
TZNAME:CST
DTSTART:20251102T070000
END:STANDARD
BEGIN:DAYLIGHT
TZOFFSETFROM:-0600
TZOFFSETTO:-0500
TZNAME:CDT
DTSTART:20260308T080000
END:DAYLIGHT
BEGIN:STANDARD
TZOFFSETFROM:-0500
TZOFFSETTO:-0600
TZNAME:CST
DTSTART:20261101T070000
END:STANDARD
BEGIN:DAYLIGHT
TZOFFSETFROM:-0600
TZOFFSETTO:-0500
TZNAME:CDT
DTSTART:20270314T080000
END:DAYLIGHT
BEGIN:STANDARD
TZOFFSETFROM:-0500
TZOFFSETTO:-0600
TZNAME:CST
DTSTART:20271107T070000
END:STANDARD
END:VTIMEZONE
BEGIN:VEVENT
DTSTART;TZID=America/Chicago:20260116T000000
DTEND;TZID=America/Chicago:20260118T235959
DTSTAMP:20260424T024234
CREATED:20260102T115501Z
LAST-MODIFIED:20260102T115525Z
UID:1851-1768521600-1768780799@baycountyfair.org
SUMMARY:Florida Panhandle Toy Expo
DESCRIPTION:Friday January 16th from 8am to 4pmSaturday January 17th from 8am to 4pmSunday January 18th from 8am to 4pmFREE ADMISSIONAntiques and Collectibles\, Show Cars on display.FUN FOR THE WHOLE FAMILY!
URL:https://baycountyfair.org/event/florida-panhandle-toy-expo-jan2026/
LOCATION:Central Panhandle Fair in Bay County\, 2230 East 15th Street\, Panama City\, FL\, 32405\, United States
CATEGORIES:Community Events
ATTACH;FMTTYPE=image/jpeg:https://baycountyfair.org/wp-content/uploads/2026/01/toy-expo-logo.jpg
END:VEVENT
BEGIN:VEVENT
DTSTART;TZID=America/Chicago:20260124T000000
DTEND;TZID=America/Chicago:20260125T235959
DTSTAMP:20260424T024234
CREATED:20260105T153404Z
LAST-MODIFIED:20260105T153406Z
UID:1855-1769212800-1769385599@baycountyfair.org
SUMMARY:The Great Pages Circus
DESCRIPTION:We have shows on:January 24th 3:00 pm and 6:00 pmJanuary 25th 1:00pm and 4:00 pm. \n\n\n\nAdults are $20 and kids 12 and under are freeCome have some fun and excitement!
URL:https://baycountyfair.org/event/the-great-pages-circus-2/
LOCATION:Central Panhandle Fair in Bay County\, 2230 East 15th Street\, Panama City\, FL\, 32405\, United States
ATTACH;FMTTYPE=image/png:https://baycountyfair.org/wp-content/uploads/2024/12/pages-clowns-1-800x1067-1.png
END:VEVENT
BEGIN:VEVENT
DTSTART;TZID=America/Chicago:20260129T000000
DTEND;TZID=America/Chicago:20260208T235959
DTSTAMP:20260424T024234
CREATED:20260116T210315Z
LAST-MODIFIED:20260116T210316Z
UID:1861-1769644800-1770595199@baycountyfair.org
SUMMARY:Florida Hot Tub Expo from South East Spas
DESCRIPTION:South East Spas1/29/26 to 2/8/269am to 5pm
URL:https://baycountyfair.org/event/florida-hot-tub-expo-from-south-east-spas-2/
LOCATION:Central Panhandle Fair in Bay County\, 2230 East 15th Street\, Panama City\, FL\, 32405\, United States
CATEGORIES:Hot Tub Expo
ATTACH;FMTTYPE=image/jpeg:https://baycountyfair.org/wp-content/uploads/2023/01/IMG-2819-scaled.jpg
END:VEVENT
END:VCALENDAR