BEGIN:VCALENDAR
VERSION:2.0
PRODID:-//Central Panhandle Fair in Bay County - ECPv6.15.20//NONSGML v1.0//EN
CALSCALE:GREGORIAN
METHOD:PUBLISH
X-WR-CALNAME:Central Panhandle Fair in Bay County
X-ORIGINAL-URL:https://baycountyfair.org
X-WR-CALDESC:Events for Central Panhandle Fair in Bay County
REFRESH-INTERVAL;VALUE=DURATION:PT1H
X-Robots-Tag:noindex
X-PUBLISHED-TTL:PT1H
BEGIN:VTIMEZONE
TZID:America/Chicago
BEGIN:DAYLIGHT
TZOFFSETFROM:-0600
TZOFFSETTO:-0500
TZNAME:CDT
DTSTART:20250309T080000
END:DAYLIGHT
BEGIN:STANDARD
TZOFFSETFROM:-0500
TZOFFSETTO:-0600
TZNAME:CST
DTSTART:20251102T070000
END:STANDARD
BEGIN:DAYLIGHT
TZOFFSETFROM:-0600
TZOFFSETTO:-0500
TZNAME:CDT
DTSTART:20260308T080000
END:DAYLIGHT
BEGIN:STANDARD
TZOFFSETFROM:-0500
TZOFFSETTO:-0600
TZNAME:CST
DTSTART:20261101T070000
END:STANDARD
BEGIN:DAYLIGHT
TZOFFSETFROM:-0600
TZOFFSETTO:-0500
TZNAME:CDT
DTSTART:20270314T080000
END:DAYLIGHT
BEGIN:STANDARD
TZOFFSETFROM:-0500
TZOFFSETTO:-0600
TZNAME:CST
DTSTART:20271107T070000
END:STANDARD
END:VTIMEZONE
BEGIN:VEVENT
DTSTART;TZID=America/Chicago:20260306T000000
DTEND;TZID=America/Chicago:20260307T235959
DTSTAMP:20260424T060031
CREATED:20260116T205809Z
LAST-MODIFIED:20260116T205811Z
UID:1858-1772755200-1772927999@baycountyfair.org
SUMMARY:10th Annual Shaddai Shriner's Rodeo
DESCRIPTION:10th Annual Shaddai Shriner’s RodeoMarch 6th thru 7th\, 2026Start times 7pm
URL:https://baycountyfair.org/event/10th-annual-shaddai-shriners-rodeo/
LOCATION:Central Panhandle Fair in Bay County\, 2230 East 15th Street\, Panama City\, FL\, 32405\, United States
CATEGORIES:Community Events,Rodeos
ATTACH;FMTTYPE=image/jpeg:https://baycountyfair.org/wp-content/uploads/2026/01/651f698e-97f0-4ac6-9747-8c27cef7be36.jpeg
END:VEVENT
BEGIN:VEVENT
DTSTART;TZID=America/Chicago:20260307T090000
DTEND;TZID=America/Chicago:20260307T170000
DTSTAMP:20260424T060031
CREATED:20260116T222223Z
LAST-MODIFIED:20260122T235025Z
UID:1865-1772874000-1772902800@baycountyfair.org
SUMMARY:3rd Annual Panama City Comics Convention
DESCRIPTION:3rd Annual Panama City Comics ConventionMarch 7th9am to 5pm
URL:https://baycountyfair.org/event/3rd-annual-panama-city-comics-convention/
LOCATION:Central Panhandle Fair in Bay County\, 2230 East 15th Street\, Panama City\, FL\, 32405\, United States
CATEGORIES:Comic Cons,Community Events
ATTACH;FMTTYPE=image/jpeg:https://baycountyfair.org/wp-content/uploads/2026/01/17ff31f6-f52b-4b54-ad81-8c22cc0021e2.jpeg
END:VEVENT
BEGIN:VEVENT
DTSTART;TZID=America/Chicago:20260315T150000
DTEND;TZID=America/Chicago:20260316T190000
DTSTAMP:20260424T060031
CREATED:20260224T220237Z
LAST-MODIFIED:20260224T220741Z
UID:1887-1773586800-1773687600@baycountyfair.org
SUMMARY:Zerbini Family Circus
DESCRIPTION:3/15/2026start times: 3:00PM to 5:00PM \n\n\n\n3/16/2026start times: 5:00PM to 7:00PM
URL:https://baycountyfair.org/event/zerbini-family-circus/
LOCATION:Central Panhandle Fair in Bay County\, 2230 East 15th Street\, Panama City\, FL\, 32405\, United States
CATEGORIES:Circus
ATTACH;FMTTYPE=image/jpeg:https://baycountyfair.org/wp-content/uploads/2026/02/zerbini-circus.jpg
ORGANIZER;CN="Zerbini Family Circus":MAILTO:mikeazcircus@gmail.com
END:VEVENT
BEGIN:VEVENT
DTSTART;TZID=America/Chicago:20260320T163000
DTEND;TZID=America/Chicago:20260320T190000
DTSTAMP:20260424T060031
CREATED:20260304T093618Z
LAST-MODIFIED:20260304T093619Z
UID:1898-1774024200-1774033200@baycountyfair.org
SUMMARY:Concert: Real Boston Richie Performing LIVE
DESCRIPTION:Artist: Real Boston RichieStart Time(s): March 20\, 2026 – 4:30pm and 7:00pm
URL:https://baycountyfair.org/event/concert-real-boston-richie-performing-live/
LOCATION:Central Panhandle Fair in Bay County\, 2230 East 15th Street\, Panama City\, FL\, 32405\, United States
ATTACH;FMTTYPE=image/jpeg:https://baycountyfair.org/wp-content/uploads/2026/03/IMG_8479.jpeg
ORGANIZER;CN="Central Panhandle Fair in Bay County":MAILTO:fairmanager@baycountyfair.org
END:VEVENT
BEGIN:VEVENT
DTSTART;TZID=America/Chicago:20260326T070000
DTEND;TZID=America/Chicago:20260329T180000
DTSTAMP:20260424T060031
CREATED:20260224T220653Z
LAST-MODIFIED:20260224T220654Z
UID:1893-1774508400-1774807200@baycountyfair.org
SUMMARY:Pinch a Penny
DESCRIPTION:Pinch a Penny3/26/2026-3/29/2026hours are 7:00AM-6:00PM
URL:https://baycountyfair.org/event/pinch-a-penny/
LOCATION:Central Panhandle Fair in Bay County\, 2230 East 15th Street\, Panama City\, FL\, 32405\, United States
ATTACH;FMTTYPE=image/jpeg:https://baycountyfair.org/wp-content/uploads/2026/02/hot-tub-water-temperature.jpg
ORGANIZER;CN="Central Panhandle Fair in Bay County":MAILTO:fairmanager@baycountyfair.org
END:VEVENT
END:VCALENDAR